BEGIN:VCALENDAR
VERSION:2.0
PRODID:-//jEvents 2.0 for Joomla//EN
CALSCALE:GREGORIAN
METHOD:PUBLISH
BEGIN:VTIMEZONE
TZID:Europe/Budapest
END:VTIMEZONE
BEGIN:VEVENT
UID:56872e0f196019d68b1cd6f206f5aeaa
CATEGORIES:Általános
SUMMARY:Idősek Napja
DESCRIPTION;ENCODING=QUOTED-PRINTABLE:\n\n\n
DTSTAMP:20260423T040131Z
DTSTART;TZID=Europe/Budapest:20241003T143000
DTEND;TZID=Europe/Budapest:20241003T160000
SEQUENCE:0
TRANSP:OPAQUE
END:VEVENT
END:VCALENDAR