BEGIN:VCALENDAR
VERSION:2.0
PRODID:-//jEvents 2.0 for Joomla//EN
CALSCALE:GREGORIAN
METHOD:PUBLISH
BEGIN:VTIMEZONE
TZID:Europe/Budapest
END:VTIMEZONE
BEGIN:VEVENT
UID:2d22db90e8bf12bb102f5b68aaa71738
CATEGORIES:Általános
SUMMARY:Október 23 - A szabadság napja
DESCRIPTION;ENCODING=QUOTED-PRINTABLE:\n\n\n
DTSTAMP:20260424T042648Z
DTSTART;TZID=Europe/Budapest:20241023T170000
DTEND;TZID=Europe/Budapest:20241023T180000
SEQUENCE:0
TRANSP:OPAQUE
END:VEVENT
END:VCALENDAR