BEGIN:VCALENDAR
VERSION:2.0
PRODID:-//jEvents 2.0 for Joomla//EN
CALSCALE:GREGORIAN
METHOD:PUBLISH
BEGIN:VTIMEZONE
TZID:Europe/Budapest
END:VTIMEZONE
BEGIN:VEVENT
UID:0f7ecb42658469b175a39419c2b23640
CATEGORIES:Általános
SUMMARY:Magyar Népmese Napja
DESCRIPTION;ENCODING=QUOTED-PRINTABLE:\n\n\n
DTSTAMP:20260423T082649Z
DTSTART;TZID=Europe/Budapest:20240930T130000
DTEND;TZID=Europe/Budapest:20240930T180000
SEQUENCE:0
TRANSP:OPAQUE
END:VEVENT
END:VCALENDAR