BEGIN:VCALENDAR
VERSION:2.0
PRODID:-//jEvents 2.0 for Joomla//EN
CALSCALE:GREGORIAN
METHOD:PUBLISH
BEGIN:VTIMEZONE
TZID:Europe/Budapest
END:VTIMEZONE
BEGIN:VEVENT
UID:67bd5635c879b9d4b9d6e4483d7bd4dd
CATEGORIES:Általános
SUMMARY:Ezüstbojtár
DESCRIPTION;ENCODING=QUOTED-PRINTABLE:\n\n\n
DTSTAMP:20260423T115624Z
DTSTART;TZID=Europe/Budapest:20240930T170000
SEQUENCE:0
TRANSP:OPAQUE
END:VEVENT
END:VCALENDAR