BEGIN:VCALENDAR
VERSION:2.0
PRODID:-//jEvents 2.0 for Joomla//EN
CALSCALE:GREGORIAN
METHOD:PUBLISH
BEGIN:VTIMEZONE
TZID:Europe/Budapest
END:VTIMEZONE
BEGIN:VEVENT
UID:ac0c1fedf705411585c62d4c7091aef7
CATEGORIES:Általános
SUMMARY:Csokit vagy csalok 
DESCRIPTION;ENCODING=QUOTED-PRINTABLE:\n\n\n
DTSTAMP:20260424T042648Z
DTSTART;TZID=Europe/Budapest:20241025T180000
SEQUENCE:0
TRANSP:OPAQUE
END:VEVENT
END:VCALENDAR